BEGIN:VCALENDAR
VERSION:2.0
PRODID:-//Goodyear Ballpark - ECPv6.15.20//NONSGML v1.0//EN
CALSCALE:GREGORIAN
METHOD:PUBLISH
X-WR-CALNAME:Goodyear Ballpark
X-ORIGINAL-URL:https://goodyearbp.com
X-WR-CALDESC:Events for Goodyear Ballpark
REFRESH-INTERVAL;VALUE=DURATION:PT1H
X-Robots-Tag:noindex
X-PUBLISHED-TTL:PT1H
BEGIN:VTIMEZONE
TZID:UTC
BEGIN:STANDARD
TZOFFSETFROM:+0000
TZOFFSETTO:+0000
TZNAME:UTC
DTSTART:20240101T000000
END:STANDARD
END:VTIMEZONE
BEGIN:VEVENT
DTSTART;TZID=UTC:20250715T180000
DTEND;TZID=UTC:20250715T180000
DTSTAMP:20260423T080143
CREATED:20250528T171716Z
LAST-MODIFIED:20250528T171716Z
UID:3357-1752602400-1752602400@goodyearbp.com
SUMMARY:ACL - Dodgers @ Guardians
DESCRIPTION:Game will be played at the Cleveland Guardians Development Complex. \n\nGuardians Development Complex\n2601 S. Wood Blvd.\, Goodyear\, AZ \nView a map of the complexes.
URL:https://goodyearbp.com/event/acl-dodgers-guardians-7/
LOCATION:Guardians Development Complex\, 2601 S. Wood Blvd.\, Goodyear\, AZ\, 85338
END:VEVENT
BEGIN:VEVENT
DTSTART;TZID=UTC:20250715T180000
DTEND;TZID=UTC:20250715T180000
DTSTAMP:20260423T080143
CREATED:20250529T205327Z
LAST-MODIFIED:20250529T205327Z
UID:3383-1752602400-1752602400@goodyearbp.com
SUMMARY:ACL - Royals @ Reds (at the ballpark)
DESCRIPTION:Arizona Complex League (ACL) game – will be played at Goodyear Ballpark.\n\nGOODYEAR BALLPARK\n1933 S BALLPARK WAY\, GOODYEAR
URL:https://goodyearbp.com/event/acl-royals-reds-at-the-ballpark-2/
LOCATION:Goodyear Ballpark\, 1933 S Ballpark Way\, Goodyear\, AZ\, 85338\, United States
END:VEVENT
BEGIN:VEVENT
DTSTART;TZID=UTC:20250716T180000
DTEND;TZID=UTC:20250716T180000
DTSTAMP:20260423T080143
CREATED:20250529T205410Z
LAST-MODIFIED:20250529T205410Z
UID:3384-1752688800-1752688800@goodyearbp.com
SUMMARY:ACL - Padres @ Reds (at the ballpark)
DESCRIPTION:Arizona Complex League (ACL) game – will be played at Goodyear Ballpark.\n\nGOODYEAR BALLPARK\n1933 S BALLPARK WAY\, GOODYEAR
URL:https://goodyearbp.com/event/acl-padres-reds-at-the-ballpark-2/
LOCATION:Goodyear Ballpark\, 1933 S Ballpark Way\, Goodyear\, AZ\, 85338\, United States
END:VEVENT
BEGIN:VEVENT
DTSTART;TZID=UTC:20250717T180000
DTEND;TZID=UTC:20250717T180000
DTSTAMP:20260423T080143
CREATED:20250528T171808Z
LAST-MODIFIED:20250528T171808Z
UID:3358-1752775200-1752775200@goodyearbp.com
SUMMARY:ACL - White Sox @ Guardians
DESCRIPTION:Game will be played at the Cleveland Guardians Development Complex. \n\nGuardians Development Complex\n2601 S. Wood Blvd.\, Goodyear\, AZ \nView a map of the complexes.
URL:https://goodyearbp.com/event/acl-white-sox-guardians-6/
LOCATION:Guardians Development Complex\, 2601 S. Wood Blvd.\, Goodyear\, AZ\, 85338
END:VEVENT
BEGIN:VEVENT
DTSTART;TZID=UTC:20250718T180000
DTEND;TZID=UTC:20250718T180000
DTSTAMP:20260423T080143
CREATED:20250528T171837Z
LAST-MODIFIED:20250530T195626Z
UID:3359-1752861600-1752861600@goodyearbp.com
SUMMARY:ACL - Reds @ Guardians
DESCRIPTION:Game will be played at the Cleveland Guardians Development Complex. \n\nGuardians Development Complex\n2601 S. Wood Blvd.\, Goodyear\, AZ \nView a map of the complexes.
URL:https://goodyearbp.com/event/acl-reds-guardians-16/
LOCATION:Guardians Development Complex\, 2601 S. Wood Blvd.\, Goodyear\, AZ\, 85338
END:VEVENT
BEGIN:VEVENT
DTSTART;TZID=UTC:20250719T110000
DTEND;TZID=UTC:20250719T110000
DTSTAMP:20260423T080143
CREATED:20250529T205513Z
LAST-MODIFIED:20250529T205637Z
UID:3385-1752922800-1752922800@goodyearbp.com
SUMMARY:ACL - White Sox @ Reds
DESCRIPTION:Arizona Complex League (ACL) game – will be played on Reds field 1\, located at the Cincinnati Reds Development Complex.\n\nReds Development Complex\n3125 S. Wood Blvd.\, Goodyear\, AZ \nView a map of the complex.
URL:https://goodyearbp.com/event/acl-white-sox-reds-9/
LOCATION:Reds Development Complex\, 3125 S Wood Blvd\, Goodyear\, AZ\, 85338
END:VEVENT
END:VCALENDAR