BEGIN:VCALENDAR
VERSION:2.0
PRODID:-//Goodyear Ballpark - ECPv6.15.20//NONSGML v1.0//EN
CALSCALE:GREGORIAN
METHOD:PUBLISH
X-ORIGINAL-URL:https://goodyearbp.com
X-WR-CALDESC:Events for Goodyear Ballpark
REFRESH-INTERVAL;VALUE=DURATION:PT1H
X-Robots-Tag:noindex
X-PUBLISHED-TTL:PT1H
BEGIN:VTIMEZONE
TZID:America/Phoenix
BEGIN:STANDARD
TZOFFSETFROM:-0700
TZOFFSETTO:-0700
TZNAME:MST
DTSTART:20240101T000000
END:STANDARD
END:VTIMEZONE
BEGIN:VEVENT
DTSTART;TZID=America/Phoenix:20250208T080000
DTEND;TZID=America/Phoenix:20250208T120000
DTSTAMP:20260419T171247
CREATED:20241230T175242Z
LAST-MODIFIED:20241230T175242Z
UID:3272-1739001600-1739016000@goodyearbp.com
SUMMARY:Heart & Sole
DESCRIPTION:Join the Sole Squad back at the ballpark for the 2025 Heart & Sole 5K and 1-Mile Fun Run!  This race is the perfect way to kick off National Heart Health Month. Choose from a 5K or 1-Mile Run/Walk. Bring the whole family – this event is geared towards all ages and abilities.\nRegistration is now open – Register here
URL:https://goodyearbp.com/event/heart-sole-2/
LOCATION:Goodyear Ballpark\, 1933 S Ballpark Way\, Goodyear\, AZ\, 85338\, United States
END:VEVENT
END:VCALENDAR