BEGIN:VCALENDAR
VERSION:2.0
PRODID:-//Goodyear Ballpark - ECPv6.15.20//NONSGML v1.0//EN
CALSCALE:GREGORIAN
METHOD:PUBLISH
X-WR-CALNAME:Goodyear Ballpark
X-ORIGINAL-URL:https://goodyearbp.com
X-WR-CALDESC:Events for Goodyear Ballpark
REFRESH-INTERVAL;VALUE=DURATION:PT1H
X-Robots-Tag:noindex
X-PUBLISHED-TTL:PT1H
BEGIN:VTIMEZONE
TZID:UTC
BEGIN:STANDARD
TZOFFSETFROM:+0000
TZOFFSETTO:+0000
TZNAME:UTC
DTSTART:20230101T000000
END:STANDARD
END:VTIMEZONE
BEGIN:VTIMEZONE
TZID:America/Phoenix
BEGIN:STANDARD
TZOFFSETFROM:-0700
TZOFFSETTO:-0700
TZNAME:MST
DTSTART:20230101T000000
END:STANDARD
END:VTIMEZONE
BEGIN:VEVENT
DTSTART;VALUE=DATE:20240614
DTEND;VALUE=DATE:20240617
DTSTAMP:20260423T234808
CREATED:20240521T193336Z
LAST-MODIFIED:20240521T193721Z
UID:3108-1718323200-1718582399@goodyearbp.com
SUMMARY:PG - 13U Tour Championship
DESCRIPTION:Games will be played at both team complexes\, located on Wood Blvd\, south of Goodyear Ballpark. For tournament info\, visit Perfect Game. \n\nGuardians Development Complex\n2601 S. Wood Blvd.\, Goodyear\, AZ \n\nReds Development Complex\n3125 S. Wood Blvd.\, Goodyear\, AZ \nView a map of the complexes.
URL:https://goodyearbp.com/event/pg-13u-tour-championship/
LOCATION:Guardians & Reds Development Complexes\, S. Wood Blvd\, Goodyear\, 85338`
CATEGORIES:tournaments
END:VEVENT
BEGIN:VEVENT
DTSTART;TZID=UTC:20240617T180000
DTEND;TZID=UTC:20240617T180000
DTSTAMP:20260423T234808
CREATED:20240417T144348Z
LAST-MODIFIED:20240417T144348Z
UID:3050-1718647200-1718647200@goodyearbp.com
SUMMARY:ACL - Cubs @ Reds
DESCRIPTION:Arizona Complex League (ACL) game – will be played on Reds field 1\, located at the Cincinnati Reds Development Complex.\n\nReds Development Complex\n3125 S. Wood Blvd.\, Goodyear\, AZ \nView a map of the complex.
URL:https://goodyearbp.com/event/acl-cubs-reds-8/
LOCATION:Reds Development Complex\, 3125 S Wood Blvd\, Goodyear\, AZ\, 85338
END:VEVENT
BEGIN:VEVENT
DTSTART;TZID=UTC:20240617T180000
DTEND;TZID=UTC:20240617T180000
DTSTAMP:20260423T234808
CREATED:20240417T152826Z
LAST-MODIFIED:20240417T152826Z
UID:3079-1718647200-1718647200@goodyearbp.com
SUMMARY:ACL - Giants @ Guardians
DESCRIPTION:Game will be played on Guardians Field 2\, located at the Cleveland Guardians Development Complex. \n\nGuardians Development Complex\n2601 S. Wood Blvd.\, Goodyear\, AZ \nView a map of the complexes.
URL:https://goodyearbp.com/event/acl-giants-guardians/
LOCATION:Guardians Development Complex\, 2601 S. Wood Blvd.\, Goodyear\, AZ\, 85338
END:VEVENT
BEGIN:VEVENT
DTSTART;TZID=UTC:20240618T180000
DTEND;TZID=UTC:20240618T180000
DTSTAMP:20260423T234808
CREATED:20240417T152926Z
LAST-MODIFIED:20240417T152926Z
UID:3081-1718733600-1718733600@goodyearbp.com
SUMMARY:ACL - Athletics @ Guardians
DESCRIPTION:Game will be played on Guardians Field 2\, located at the Cleveland Guardians Development Complex. \n\nGuardians Development Complex\n2601 S. Wood Blvd.\, Goodyear\, AZ \nView a map of the complexes.
URL:https://goodyearbp.com/event/acl-athletics-guardians-7/
LOCATION:Guardians Development Complex\, 2601 S. Wood Blvd.\, Goodyear\, AZ\, 85338
END:VEVENT
BEGIN:VEVENT
DTSTART;TZID=UTC:20240619T180000
DTEND;TZID=UTC:20240619T180000
DTSTAMP:20260423T234808
CREATED:20240417T144415Z
LAST-MODIFIED:20240417T144415Z
UID:3051-1718820000-1718820000@goodyearbp.com
SUMMARY:ACL - Cubs @ Reds
DESCRIPTION:Arizona Complex League (ACL) game – will be played on Reds field 1\, located at the Cincinnati Reds Development Complex.\n\nReds Development Complex\n3125 S. Wood Blvd.\, Goodyear\, AZ \nView a map of the complex.
URL:https://goodyearbp.com/event/acl-cubs-reds-9/
LOCATION:Reds Development Complex\, 3125 S Wood Blvd\, Goodyear\, AZ\, 85338
END:VEVENT
BEGIN:VEVENT
DTSTART;VALUE=DATE:20240620
DTEND;VALUE=DATE:20240624
DTSTAMP:20260423T234808
CREATED:20240521T193639Z
LAST-MODIFIED:20240521T193639Z
UID:3109-1718841600-1719187199@goodyearbp.com
SUMMARY:PG - BCS Challenge
DESCRIPTION:Games will be played at both team complexes\, located on Wood Blvd\, south of Goodyear Ballpark. For tournament info\, visit Perfect Game. \n\nGuardians Development Complex\n2601 S. Wood Blvd.\, Goodyear\, AZ \n\nReds Development Complex\n3125 S. Wood Blvd.\, Goodyear\, AZ \nView a map of the complexes.
URL:https://goodyearbp.com/event/pg-bcs-challenge/
LOCATION:Guardians & Reds Development Complexes\, S. Wood Blvd\, Goodyear\, 85338`
CATEGORIES:tournaments
END:VEVENT
BEGIN:VEVENT
DTSTART;TZID=UTC:20240620T180000
DTEND;TZID=UTC:20240620T180000
DTSTAMP:20260423T234808
CREATED:20240417T144438Z
LAST-MODIFIED:20240417T144438Z
UID:3052-1718906400-1718906400@goodyearbp.com
SUMMARY:ACL - White Sox @ Reds
DESCRIPTION:Arizona Complex League (ACL) game – will be played on Reds field 1\, located at the Cincinnati Reds Development Complex.\n\nReds Development Complex\n3125 S. Wood Blvd.\, Goodyear\, AZ \nView a map of the complex.
URL:https://goodyearbp.com/event/acl-white-sox-reds-4/
LOCATION:Reds Development Complex\, 3125 S Wood Blvd\, Goodyear\, AZ\, 85338
END:VEVENT
BEGIN:VEVENT
DTSTART;TZID=UTC:20240620T180000
DTEND;TZID=UTC:20240620T180000
DTSTAMP:20260423T234808
CREATED:20240417T153033Z
LAST-MODIFIED:20240417T153033Z
UID:3083-1718906400-1718906400@goodyearbp.com
SUMMARY:ACL - Dodgers @ Guardians
DESCRIPTION:Game will be played on Guardians Field 2\, located at the Cleveland Guardians Development Complex. \n\nGuardians Development Complex\n2601 S. Wood Blvd.\, Goodyear\, AZ \nView a map of the complexes.
URL:https://goodyearbp.com/event/acl-dodgers-guardians-5/
LOCATION:Guardians Development Complex\, 2601 S. Wood Blvd.\, Goodyear\, AZ\, 85338
END:VEVENT
BEGIN:VEVENT
DTSTART;TZID=America/Phoenix:20240621T170000
DTEND;TZID=America/Phoenix:20240621T220000
DTSTAMP:20260423T234808
CREATED:20240614T170221Z
LAST-MODIFIED:20240620T181419Z
UID:3137-1718989200-1719007200@goodyearbp.com
SUMMARY:Goodyear Food Truck Friday Fiesta
DESCRIPTION:Find out more at Food Truck Next.
URL:https://goodyearbp.com/event/goodyear-food-truck-friday-fiesta/
LOCATION:Goodyear Ballpark\, 1933 S Ballpark Way\, Goodyear\, AZ\, 85338\, United States
END:VEVENT
BEGIN:VEVENT
DTSTART;TZID=UTC:20240622T110000
DTEND;TZID=UTC:20240622T110000
DTSTAMP:20260423T234808
CREATED:20240417T145259Z
LAST-MODIFIED:20240417T145259Z
UID:3067-1719054000-1719054000@goodyearbp.com
SUMMARY:ACL - Rockies @ Reds
DESCRIPTION:Arizona Complex League (ACL) game – will be played on Reds field 1\, located at the Cincinnati Reds Development Complex.\n\nReds Development Complex\n3125 S. Wood Blvd.\, Goodyear\, AZ \nView a map of the complex.
URL:https://goodyearbp.com/event/acl-rockies-reds-2/
LOCATION:Reds Development Complex\, 3125 S Wood Blvd\, Goodyear\, AZ\, 85338
END:VEVENT
END:VCALENDAR