BEGIN:VCALENDAR
VERSION:2.0
PRODID:-//Goodyear Ballpark - ECPv6.15.20//NONSGML v1.0//EN
CALSCALE:GREGORIAN
METHOD:PUBLISH
X-WR-CALNAME:Goodyear Ballpark
X-ORIGINAL-URL:https://goodyearbp.com
X-WR-CALDESC:Events for Goodyear Ballpark
REFRESH-INTERVAL;VALUE=DURATION:PT1H
X-Robots-Tag:noindex
X-PUBLISHED-TTL:PT1H
BEGIN:VTIMEZONE
TZID:UTC
BEGIN:STANDARD
TZOFFSETFROM:+0000
TZOFFSETTO:+0000
TZNAME:UTC
DTSTART:20230101T000000
END:STANDARD
END:VTIMEZONE
BEGIN:VEVENT
DTSTART;TZID=UTC:20240303T130500
DTEND;TZID=UTC:20240303T130500
DTSTAMP:20260420T060153
CREATED:20231208T221129Z
LAST-MODIFIED:20231208T221129Z
UID:2865-1709471100-1709471100@goodyearbp.com
SUMMARY:Giants @ Guardians
DESCRIPTION:
URL:https://goodyearbp.com/event/giants-guardians-2/
LOCATION:Goodyear Ballpark\, 1933 S Ballpark Way\, Goodyear\, AZ\, 85338\, United States
CATEGORIES:spring training
END:VEVENT
BEGIN:VEVENT
DTSTART;TZID=UTC:20240304T130500
DTEND;TZID=UTC:20240304T130500
DTSTAMP:20260420T060153
CREATED:20231208T221704Z
LAST-MODIFIED:20231208T221704Z
UID:2876-1709557500-1709557500@goodyearbp.com
SUMMARY:Athletics @ Reds
DESCRIPTION:
URL:https://goodyearbp.com/event/athletics-reds-2/
LOCATION:Goodyear Ballpark\, 1933 S Ballpark Way\, Goodyear\, AZ\, 85338\, United States
CATEGORIES:spring training
END:VEVENT
BEGIN:VEVENT
DTSTART;TZID=UTC:20240305T130500
DTEND;TZID=UTC:20240305T130500
DTSTAMP:20260420T060153
CREATED:20231208T221153Z
LAST-MODIFIED:20231208T221153Z
UID:2866-1709643900-1709643900@goodyearbp.com
SUMMARY:Mariners @ Guardians
DESCRIPTION:
URL:https://goodyearbp.com/event/mariners-guardians-2/
LOCATION:Goodyear Ballpark\, 1933 S Ballpark Way\, Goodyear\, AZ\, 85338\, United States
CATEGORIES:spring training
END:VEVENT
BEGIN:VEVENT
DTSTART;TZID=UTC:20240306T130500
DTEND;TZID=UTC:20240306T130500
DTSTAMP:20260420T060153
CREATED:20231208T221729Z
LAST-MODIFIED:20231208T221729Z
UID:2877-1709730300-1709730300@goodyearbp.com
SUMMARY:Brewers @ Reds
DESCRIPTION:
URL:https://goodyearbp.com/event/brewers-reds-2/
LOCATION:Goodyear Ballpark\, 1933 S Ballpark Way\, Goodyear\, AZ\, 85338\, United States
CATEGORIES:spring training
END:VEVENT
BEGIN:VEVENT
DTSTART;TZID=UTC:20240307T180500
DTEND;TZID=UTC:20240307T180500
DTSTAMP:20260420T060153
CREATED:20231208T221804Z
LAST-MODIFIED:20231208T221804Z
UID:2878-1709834700-1709834700@goodyearbp.com
SUMMARY:Cubs @ Reds
DESCRIPTION:
URL:https://goodyearbp.com/event/cubs-reds-2/
LOCATION:Goodyear Ballpark\, 1933 S Ballpark Way\, Goodyear\, AZ\, 85338\, United States
CATEGORIES:spring training
END:VEVENT
BEGIN:VEVENT
DTSTART;TZID=UTC:20240308T130500
DTEND;TZID=UTC:20240308T130500
DTSTAMP:20260420T060153
CREATED:20231208T221220Z
LAST-MODIFIED:20231208T221220Z
UID:2867-1709903100-1709903100@goodyearbp.com
SUMMARY:White Sox @ Guardians
DESCRIPTION:
URL:https://goodyearbp.com/event/white-sox-guardians-2/
LOCATION:Goodyear Ballpark\, 1933 S Ballpark Way\, Goodyear\, AZ\, 85338\, United States
CATEGORIES:spring training
END:VEVENT
BEGIN:VEVENT
DTSTART;TZID=UTC:20240309T130500
DTEND;TZID=UTC:20240309T130500
DTSTAMP:20260420T060153
CREATED:20231208T221244Z
LAST-MODIFIED:20231208T221244Z
UID:2868-1709989500-1709989500@goodyearbp.com
SUMMARY:Angels @ Guardians
DESCRIPTION:
URL:https://goodyearbp.com/event/angels-guardians-2/
LOCATION:Goodyear Ballpark\, 1933 S Ballpark Way\, Goodyear\, AZ\, 85338\, United States
CATEGORIES:spring training
END:VEVENT
END:VCALENDAR