BEGIN:VCALENDAR
VERSION:2.0
PRODID:-//Goodyear Ballpark - ECPv6.15.20//NONSGML v1.0//EN
CALSCALE:GREGORIAN
METHOD:PUBLISH
X-WR-CALNAME:Goodyear Ballpark
X-ORIGINAL-URL:https://goodyearbp.com
X-WR-CALDESC:Events for Goodyear Ballpark
REFRESH-INTERVAL;VALUE=DURATION:PT1H
X-Robots-Tag:noindex
X-PUBLISHED-TTL:PT1H
BEGIN:VTIMEZONE
TZID:UTC
BEGIN:STANDARD
TZOFFSETFROM:+0000
TZOFFSETTO:+0000
TZNAME:UTC
DTSTART:20220101T000000
END:STANDARD
END:VTIMEZONE
BEGIN:VEVENT
DTSTART;TZID=UTC:20230807T180000
DTEND;TZID=UTC:20230807T180000
DTSTAMP:20260420T131320
CREATED:20230526T175405Z
LAST-MODIFIED:20230526T175405Z
UID:2748-1691431200-1691431200@goodyearbp.com
SUMMARY:ACL - Cubs @ Guardians
DESCRIPTION:Game will be played on Guardians Field 2\, located at the Cleveland Guardians Development Complex. \n\nGuardians Development Complex\n2601 S. Wood Blvd.\, Goodyear\, AZ \nView a map of the complexes.
URL:https://goodyearbp.com/event/acl-cubs-guardians-6/
LOCATION:Guardians Development Complex\, 2601 S. Wood Blvd.\, Goodyear\, AZ\, 85338
END:VEVENT
BEGIN:VEVENT
DTSTART;TZID=UTC:20230809T180000
DTEND;TZID=UTC:20230809T180000
DTSTAMP:20260420T131320
CREATED:20230526T180546Z
LAST-MODIFIED:20230526T180546Z
UID:2767-1691604000-1691604000@goodyearbp.com
SUMMARY:ACL - Guardians @ Reds
DESCRIPTION:Arizona Complex League (ACL) game – will be played on Reds field 1\, located at the Cincinnati Reds Development Complex.\n\nReds Development Complex\n3125 S. Wood Blvd.\, Goodyear\, AZ \nView a map of the complex.
URL:https://goodyearbp.com/event/acl-guardians-reds-8/
LOCATION:Reds Development Complex\, 3125 S Wood Blvd\, Goodyear\, AZ\, 85338
END:VEVENT
BEGIN:VEVENT
DTSTART;TZID=UTC:20230810T180000
DTEND;TZID=UTC:20230810T180000
DTSTAMP:20260420T131320
CREATED:20230526T175430Z
LAST-MODIFIED:20230526T175430Z
UID:2749-1691690400-1691690400@goodyearbp.com
SUMMARY:ACL - Dbacks Black @ Guardians
DESCRIPTION:Game will be played on Guardians Field 2\, located at the Cleveland Guardians Development Complex. \n\nGuardians Development Complex\n2601 S. Wood Blvd.\, Goodyear\, AZ \nView a map of the complexes.
URL:https://goodyearbp.com/event/acl-dbacks-black-guardians-2/
LOCATION:Guardians Development Complex\, 2601 S. Wood Blvd.\, Goodyear\, AZ\, 85338
END:VEVENT
BEGIN:VEVENT
DTSTART;TZID=UTC:20230810T180000
DTEND;TZID=UTC:20230810T180000
DTSTAMP:20260420T131320
CREATED:20230526T180616Z
LAST-MODIFIED:20230526T180616Z
UID:2768-1691690400-1691690400@goodyearbp.com
SUMMARY:ACL - Cubs @ Reds
DESCRIPTION:Arizona Complex League (ACL) game – will be played on Reds field 1\, located at the Cincinnati Reds Development Complex.\n\nReds Development Complex\n3125 S. Wood Blvd.\, Goodyear\, AZ \nView a map of the complex.
URL:https://goodyearbp.com/event/acl-cubs-reds-7/
LOCATION:Reds Development Complex\, 3125 S Wood Blvd\, Goodyear\, AZ\, 85338
END:VEVENT
BEGIN:VEVENT
DTSTART;TZID=UTC:20230812T103000
DTEND;TZID=UTC:20230812T103000
DTSTAMP:20260420T131320
CREATED:20230607T145925Z
LAST-MODIFIED:20230607T195330Z
UID:2782-1691836200-1691836200@goodyearbp.com
SUMMARY:ACL - Royals @ Reds
DESCRIPTION:Arizona Complex League (ACL) game – will be played on Reds field 1\, located at the Cincinnati Reds Development Complex.\n\nReds Development Complex\n3125 S. Wood Blvd.\, Goodyear\, AZ \nView a map of the complex.
URL:https://goodyearbp.com/event/acl-royals-reds/
LOCATION:Reds Development Complex\, 3125 S Wood Blvd\, Goodyear\, AZ\, 85338
END:VEVENT
BEGIN:VEVENT
DTSTART;TZID=UTC:20230812T110000
DTEND;TZID=UTC:20230812T110000
DTSTAMP:20260420T131320
CREATED:20230607T184755Z
LAST-MODIFIED:20230607T184755Z
UID:2789-1691838000-1691838000@goodyearbp.com
SUMMARY:ACL - Brewers @ Guardians
DESCRIPTION:Game will be played on Guardians Field 2\, located at the Cleveland Guardians Development Complex. \n\nGuardians Development Complex\n2601 S. Wood Blvd.\, Goodyear\, AZ \nView a map of the complexes.
URL:https://goodyearbp.com/event/acl-brewers-guardians-4/
LOCATION:Guardians Development Complex\, 2601 S. Wood Blvd.\, Goodyear\, AZ\, 85338
END:VEVENT
END:VCALENDAR