BEGIN:VCALENDAR
VERSION:2.0
PRODID:-//Goodyear Ballpark - ECPv6.15.20//NONSGML v1.0//EN
CALSCALE:GREGORIAN
METHOD:PUBLISH
X-ORIGINAL-URL:https://goodyearbp.com
X-WR-CALDESC:Events for Goodyear Ballpark
REFRESH-INTERVAL;VALUE=DURATION:PT1H
X-Robots-Tag:noindex
X-PUBLISHED-TTL:PT1H
BEGIN:VTIMEZONE
TZID:UTC
BEGIN:STANDARD
TZOFFSETFROM:+0000
TZOFFSETTO:+0000
TZNAME:UTC
DTSTART:20220101T000000
END:STANDARD
END:VTIMEZONE
BEGIN:VEVENT
DTSTART;VALUE=DATE:20230610
DTEND;VALUE=DATE:20230612
DTSTAMP:20260420T091715
CREATED:20230419T201520Z
LAST-MODIFIED:20230419T201520Z
UID:2719-1686355200-1686527999@goodyearbp.com
SUMMARY:PG - Southwest Summer Kick Off
DESCRIPTION:10-14U\, 16U\, 18U. Games will be played at both team complexes\, located on Wood Blvd\, south of Goodyear Ballpark. For tournament info\, visit Perfect Game. \n\nGuardians Development Complex\n2601 S. Wood Blvd.\, Goodyear\, AZ \n\nReds Development Complex\n3125 S. Wood Blvd.\, Goodyear\, AZ \nView a map of the complexes.
URL:https://goodyearbp.com/event/pg-southwest-summer-kick-off/
LOCATION:Guardians & Reds Development Complexes\, S. Wood Blvd\, Goodyear\, 85338`
CATEGORIES:tournaments
END:VEVENT
BEGIN:VEVENT
DTSTART;TZID=UTC:20230612T180000
DTEND;TZID=UTC:20230612T180000
DTSTAMP:20260420T091715
CREATED:20230526T174618Z
LAST-MODIFIED:20230526T174618Z
UID:2733-1686592800-1686592800@goodyearbp.com
SUMMARY:ACL - Brewers @ Guardians
DESCRIPTION:Game will be played on Guardians Field 2\, located at the Cleveland Guardians Development Complex. \n\nGuardians Development Complex\n2601 S. Wood Blvd.\, Goodyear\, AZ \nView a map of the complexes.
URL:https://goodyearbp.com/event/acl-brewers-guardians/
LOCATION:Guardians Development Complex\, 2601 S. Wood Blvd.\, Goodyear\, AZ\, 85338
END:VEVENT
BEGIN:VEVENT
DTSTART;TZID=UTC:20230614T180000
DTEND;TZID=UTC:20230614T180000
DTSTAMP:20260420T091715
CREATED:20230526T174649Z
LAST-MODIFIED:20230526T174649Z
UID:2734-1686765600-1686765600@goodyearbp.com
SUMMARY:ACL - Mariners @ Guardians
DESCRIPTION:Game will be played on Guardians Field 2\, located at the Cleveland Guardians Development Complex. \n\nGuardians Development Complex\n2601 S. Wood Blvd.\, Goodyear\, AZ \nView a map of the complexes.
URL:https://goodyearbp.com/event/acl-mariners-guardians-2/
LOCATION:Guardians Development Complex\, 2601 S. Wood Blvd.\, Goodyear\, AZ\, 85338
END:VEVENT
BEGIN:VEVENT
DTSTART;TZID=UTC:20230614T180000
DTEND;TZID=UTC:20230614T180000
DTSTAMP:20260420T091715
CREATED:20230526T175841Z
LAST-MODIFIED:20230526T175841Z
UID:2753-1686765600-1686765600@goodyearbp.com
SUMMARY:ACL - White Sox @ Reds
DESCRIPTION:Arizona Complex League (ACL) game – will be played on Reds field 1\, located at the Cincinnati Reds Development Complex.\n\nReds Development Complex\n3125 S. Wood Blvd.\, Goodyear\, AZ \nView a map of the complex.
URL:https://goodyearbp.com/event/acl-white-sox-reds-2/
LOCATION:Reds Development Complex\, 3125 S Wood Blvd\, Goodyear\, AZ\, 85338
END:VEVENT
BEGIN:VEVENT
DTSTART;TZID=UTC:20230616T180000
DTEND;TZID=UTC:20230616T180000
DTSTAMP:20260420T091715
CREATED:20230526T174714Z
LAST-MODIFIED:20230526T174714Z
UID:2735-1686938400-1686938400@goodyearbp.com
SUMMARY:ACL - Padres @ Guardians
DESCRIPTION:Game will be played on Guardians Field 2\, located at the Cleveland Guardians Development Complex. \n\nGuardians Development Complex\n2601 S. Wood Blvd.\, Goodyear\, AZ \nView a map of the complexes.
URL:https://goodyearbp.com/event/acl-padres-guardians-2/
LOCATION:Guardians Development Complex\, 2601 S. Wood Blvd.\, Goodyear\, AZ\, 85338
END:VEVENT
BEGIN:VEVENT
DTSTART;TZID=UTC:20230616T180000
DTEND;TZID=UTC:20230616T180000
DTSTAMP:20260420T091715
CREATED:20230526T175911Z
LAST-MODIFIED:20230526T175911Z
UID:2754-1686938400-1686938400@goodyearbp.com
SUMMARY:ACL - Mariners @ Reds
DESCRIPTION:Arizona Complex League (ACL) game – will be played on Reds field 1\, located at the Cincinnati Reds Development Complex.\n\nReds Development Complex\n3125 S. Wood Blvd.\, Goodyear\, AZ \nView a map of the complex.
URL:https://goodyearbp.com/event/acl-mariners-reds-2/
LOCATION:Reds Development Complex\, 3125 S Wood Blvd\, Goodyear\, AZ\, 85338
END:VEVENT
BEGIN:VEVENT
DTSTART;VALUE=DATE:20230617
DTEND;VALUE=DATE:20230620
DTSTAMP:20260420T091715
CREATED:20230419T201748Z
LAST-MODIFIED:20230419T201748Z
UID:2720-1686960000-1687219199@goodyearbp.com
SUMMARY:PG - West BCS National Championship #1
DESCRIPTION:13U-18U. Games will be played at both team complexes\, located on Wood Blvd\, south of Goodyear Ballpark. For tournament info\, visit Perfect Game. \n\nGuardians Development Complex\n2601 S. Wood Blvd.\, Goodyear\, AZ \n\nReds Development Complex\n3125 S. Wood Blvd.\, Goodyear\, AZ \nView a map of the complexes.
URL:https://goodyearbp.com/event/pg-west-bcs-national-championship-1/
LOCATION:Guardians & Reds Development Complexes\, S. Wood Blvd\, Goodyear\, 85338`
CATEGORIES:tournaments
END:VEVENT
BEGIN:VEVENT
DTSTART;TZID=UTC:20230617T110000
DTEND;TZID=UTC:20230617T110000
DTSTAMP:20260420T091715
CREATED:20230607T145518Z
LAST-MODIFIED:20230607T145518Z
UID:2776-1686999600-1686999600@goodyearbp.com
SUMMARY:ACL - Guardians @ Reds
DESCRIPTION:Arizona Complex League (ACL) game – will be played on Reds field 1\, located at the Cincinnati Reds Development Complex.\n\nReds Development Complex\n3125 S. Wood Blvd.\, Goodyear\, AZ \nView a map of the complex.
URL:https://goodyearbp.com/event/acl-guardians-reds-10/
LOCATION:Reds Development Complex\, 3125 S Wood Blvd\, Goodyear\, AZ\, 85338
END:VEVENT
END:VCALENDAR