BEGIN:VCALENDAR
VERSION:2.0
PRODID:-//Goodyear Ballpark - ECPv6.15.20//NONSGML v1.0//EN
CALSCALE:GREGORIAN
METHOD:PUBLISH
X-ORIGINAL-URL:https://goodyearbp.com
X-WR-CALDESC:Events for Goodyear Ballpark
REFRESH-INTERVAL;VALUE=DURATION:PT1H
X-Robots-Tag:noindex
X-PUBLISHED-TTL:PT1H
BEGIN:VTIMEZONE
TZID:UTC
BEGIN:STANDARD
TZOFFSETFROM:+0000
TZOFFSETTO:+0000
TZNAME:UTC
DTSTART:20220101T000000
END:STANDARD
END:VTIMEZONE
BEGIN:VEVENT
DTSTART;TZID=UTC:20230319T130500
DTEND;TZID=UTC:20230319T130500
DTSTAMP:20260424T000847
CREATED:20220830T154652Z
LAST-MODIFIED:20221212T172230Z
UID:2584-1679231100-1679231100@goodyearbp.com
SUMMARY:Rockies @ Guardians
DESCRIPTION:
URL:https://goodyearbp.com/event/rockies-guardians/
LOCATION:Goodyear Ballpark\, 1933 S Ballpark Way\, Goodyear\, AZ\, 85338\, United States
CATEGORIES:spring training
END:VEVENT
BEGIN:VEVENT
DTSTART;TZID=UTC:20230320T130500
DTEND;TZID=UTC:20230320T130500
DTSTAMP:20260424T000847
CREATED:20220830T153724Z
LAST-MODIFIED:20230106T223016Z
UID:2574-1679317500-1679317500@goodyearbp.com
SUMMARY:Angels @ Reds
DESCRIPTION:
URL:https://goodyearbp.com/event/angels-reds/
LOCATION:Goodyear Ballpark\, 1933 S Ballpark Way\, Goodyear\, AZ\, 85338\, United States
CATEGORIES:spring training
END:VEVENT
BEGIN:VEVENT
DTSTART;TZID=UTC:20230321T130500
DTEND;TZID=UTC:20230321T130500
DTSTAMP:20260424T000847
CREATED:20220830T154722Z
LAST-MODIFIED:20221212T172302Z
UID:2585-1679403900-1679403900@goodyearbp.com
SUMMARY:Dodgers @ Guardians
DESCRIPTION:
URL:https://goodyearbp.com/event/dodgers-guardians-2/
LOCATION:Goodyear Ballpark\, 1933 S Ballpark Way\, Goodyear\, AZ\, 85338\, United States
CATEGORIES:spring training
END:VEVENT
BEGIN:VEVENT
DTSTART;TZID=UTC:20230322T180500
DTEND;TZID=UTC:20230322T180500
DTSTAMP:20260424T000847
CREATED:20220830T153755Z
LAST-MODIFIED:20221212T172320Z
UID:2575-1679508300-1679508300@goodyearbp.com
SUMMARY:Padres @ Reds
DESCRIPTION:
URL:https://goodyearbp.com/event/padres-reds/
LOCATION:Goodyear Ballpark\, 1933 S Ballpark Way\, Goodyear\, AZ\, 85338\, United States
CATEGORIES:spring training
END:VEVENT
BEGIN:VEVENT
DTSTART;TZID=UTC:20230323T180500
DTEND;TZID=UTC:20230323T180500
DTSTAMP:20260424T000847
CREATED:20220830T153815Z
LAST-MODIFIED:20221212T172334Z
UID:2576-1679594700-1679594700@goodyearbp.com
SUMMARY:Mariners @ Reds
DESCRIPTION:
URL:https://goodyearbp.com/event/mariners-reds-2/
LOCATION:Goodyear Ballpark\, 1933 S Ballpark Way\, Goodyear\, AZ\, 85338\, United States
CATEGORIES:spring training
END:VEVENT
BEGIN:VEVENT
DTSTART;TZID=UTC:20230324T180500
DTEND;TZID=UTC:20230324T180500
DTSTAMP:20260424T000847
CREATED:20220830T154750Z
LAST-MODIFIED:20221212T172352Z
UID:2586-1679681100-1679681100@goodyearbp.com
SUMMARY:Cubs @ Guardians
DESCRIPTION:
URL:https://goodyearbp.com/event/cubs-guardians-2/
LOCATION:Goodyear Ballpark\, 1933 S Ballpark Way\, Goodyear\, AZ\, 85338\, United States
CATEGORIES:spring training
END:VEVENT
BEGIN:VEVENT
DTSTART;TZID=UTC:20230325T180500
DTEND;TZID=UTC:20230325T180500
DTSTAMP:20260424T000847
CREATED:20220830T153841Z
LAST-MODIFIED:20221212T172407Z
UID:2577-1679767500-1679767500@goodyearbp.com
SUMMARY:White Sox @ Reds
DESCRIPTION:
URL:https://goodyearbp.com/event/white-sox-reds-2/
LOCATION:Goodyear Ballpark\, 1933 S Ballpark Way\, Goodyear\, AZ\, 85338\, United States
CATEGORIES:spring training
END:VEVENT
END:VCALENDAR