BEGIN:VCALENDAR
VERSION:2.0
PRODID:-//Goodyear Ballpark - ECPv6.15.20//NONSGML v1.0//EN
CALSCALE:GREGORIAN
METHOD:PUBLISH
X-WR-CALNAME:Goodyear Ballpark
X-ORIGINAL-URL:https://goodyearbp.com
X-WR-CALDESC:Events for Goodyear Ballpark
REFRESH-INTERVAL;VALUE=DURATION:PT1H
X-Robots-Tag:noindex
X-PUBLISHED-TTL:PT1H
BEGIN:VTIMEZONE
TZID:UTC
BEGIN:STANDARD
TZOFFSETFROM:+0000
TZOFFSETTO:+0000
TZNAME:UTC
DTSTART:20220101T000000
END:STANDARD
END:VTIMEZONE
BEGIN:VEVENT
DTSTART;TZID=UTC:20230312T130500
DTEND;TZID=UTC:20230312T130500
DTSTAMP:20260423T225919
CREATED:20220830T153512Z
LAST-MODIFIED:20221212T172017Z
UID:2570-1678626300-1678626300@goodyearbp.com
SUMMARY:Dodgers @ Reds
DESCRIPTION:
URL:https://goodyearbp.com/event/dodgers-reds/
LOCATION:Goodyear Ballpark\, 1933 S Ballpark Way\, Goodyear\, AZ\, 85338\, United States
CATEGORIES:spring training
END:VEVENT
BEGIN:VEVENT
DTSTART;TZID=UTC:20230313T130500
DTEND;TZID=UTC:20230313T130500
DTSTAMP:20260423T225919
CREATED:20220830T153600Z
LAST-MODIFIED:20221212T172037Z
UID:2571-1678712700-1678712700@goodyearbp.com
SUMMARY:Brewers @ Reds
DESCRIPTION:
URL:https://goodyearbp.com/event/brewers-reds/
LOCATION:Goodyear Ballpark\, 1933 S Ballpark Way\, Goodyear\, AZ\, 85338\, United States
CATEGORIES:spring training
END:VEVENT
BEGIN:VEVENT
DTSTART;TZID=UTC:20230314T130500
DTEND;TZID=UTC:20230314T130500
DTSTAMP:20260423T225919
CREATED:20220830T154119Z
LAST-MODIFIED:20221212T172056Z
UID:2581-1678799100-1678799100@goodyearbp.com
SUMMARY:Angels @ Guardians
DESCRIPTION:
URL:https://goodyearbp.com/event/angels-guardians/
LOCATION:Goodyear Ballpark\, 1933 S Ballpark Way\, Goodyear\, AZ\, 85338\, United States
CATEGORIES:spring training
END:VEVENT
BEGIN:VEVENT
DTSTART;TZID=UTC:20230315T180500
DTEND;TZID=UTC:20230315T180500
DTSTAMP:20260423T225919
CREATED:20220830T153625Z
LAST-MODIFIED:20230104T011506Z
UID:2572-1678903500-1678903500@goodyearbp.com
SUMMARY:Cubs @ Reds
DESCRIPTION:
URL:https://goodyearbp.com/event/cubs-reds/
LOCATION:Goodyear Ballpark\, 1933 S Ballpark Way\, Goodyear\, AZ\, 85338\, United States
CATEGORIES:spring training
END:VEVENT
BEGIN:VEVENT
DTSTART;TZID=UTC:20230316T130500
DTEND;TZID=UTC:20230316T130500
DTSTAMP:20260423T225919
CREATED:20220830T154150Z
LAST-MODIFIED:20221212T172133Z
UID:2582-1678971900-1678971900@goodyearbp.com
SUMMARY:White Sox @ Guardians
DESCRIPTION:
URL:https://goodyearbp.com/event/white-sox-guardians/
LOCATION:Goodyear Ballpark\, 1933 S Ballpark Way\, Goodyear\, AZ\, 85338\, United States
CATEGORIES:spring training
END:VEVENT
BEGIN:VEVENT
DTSTART;TZID=UTC:20230317T180500
DTEND;TZID=UTC:20230317T180500
DTSTAMP:20260423T225919
CREATED:20220830T153656Z
LAST-MODIFIED:20221212T172152Z
UID:2573-1679076300-1679076300@goodyearbp.com
SUMMARY:Guardians @ Reds
DESCRIPTION:
URL:https://goodyearbp.com/event/guardians-reds/
LOCATION:Goodyear Ballpark\, 1933 S Ballpark Way\, Goodyear\, AZ\, 85338\, United States
CATEGORIES:spring training
END:VEVENT
BEGIN:VEVENT
DTSTART;TZID=UTC:20230318T064500
DTEND;TZID=UTC:20230318T064500
DTSTAMP:20260423T225919
CREATED:20230209T204149Z
LAST-MODIFIED:20230209T204149Z
UID:2637-1679121900-1679121900@goodyearbp.com
SUMMARY:Tour de Cure: Arizona 56
DESCRIPTION:Bike ride to benefit the American Diabetes Association. \n56 mile ride\, 23 mile ride or 5.6 mile ride \nMore info and registration…
URL:https://goodyearbp.com/event/tour-de-cure-arizona-56-2/
LOCATION:Goodyear Ballpark\, 1933 S Ballpark Way\, Goodyear\, AZ\, 85338\, United States
END:VEVENT
BEGIN:VEVENT
DTSTART;TZID=UTC:20230318T180500
DTEND;TZID=UTC:20230318T180500
DTSTAMP:20260423T225919
CREATED:20220830T154308Z
LAST-MODIFIED:20221212T172215Z
UID:2583-1679162700-1679162700@goodyearbp.com
SUMMARY:Mariners @ Guardians
DESCRIPTION:
URL:https://goodyearbp.com/event/mariners-guardians/
LOCATION:Goodyear Ballpark\, 1933 S Ballpark Way\, Goodyear\, AZ\, 85338\, United States
CATEGORIES:spring training
END:VEVENT
END:VCALENDAR