BEGIN:VCALENDAR
VERSION:2.0
PRODID:-//Goodyear Ballpark - ECPv6.15.20//NONSGML v1.0//EN
CALSCALE:GREGORIAN
METHOD:PUBLISH
X-ORIGINAL-URL:https://goodyearbp.com
X-WR-CALDESC:Events for Goodyear Ballpark
REFRESH-INTERVAL;VALUE=DURATION:PT1H
X-Robots-Tag:noindex
X-PUBLISHED-TTL:PT1H
BEGIN:VTIMEZONE
TZID:UTC
BEGIN:STANDARD
TZOFFSETFROM:+0000
TZOFFSETTO:+0000
TZNAME:UTC
DTSTART:20220101T000000
END:STANDARD
END:VTIMEZONE
BEGIN:VEVENT
DTSTART;TZID=UTC:20230305T130500
DTEND;TZID=UTC:20230305T130500
DTSTAMP:20260424T085015
CREATED:20220830T153303Z
LAST-MODIFIED:20221212T171611Z
UID:2566-1678021500-1678021500@goodyearbp.com
SUMMARY:Dbacks @ Guardians
DESCRIPTION:
URL:https://goodyearbp.com/event/dbacks-guardians/
LOCATION:Goodyear Ballpark\, 1933 S Ballpark Way\, Goodyear\, AZ\, 85338\, United States
CATEGORIES:spring training
END:VEVENT
BEGIN:VEVENT
DTSTART;TZID=UTC:20230306T180500
DTEND;TZID=UTC:20230306T180500
DTSTAMP:20260424T085015
CREATED:20220830T153340Z
LAST-MODIFIED:20230104T011424Z
UID:2567-1678125900-1678125900@goodyearbp.com
SUMMARY:Rockies @ Reds
DESCRIPTION:
URL:https://goodyearbp.com/event/rockies-reds/
LOCATION:Goodyear Ballpark\, 1933 S Ballpark Way\, Goodyear\, AZ\, 85338\, United States
CATEGORIES:spring training
END:VEVENT
BEGIN:VEVENT
DTSTART;TZID=UTC:20230307T130500
DTEND;TZID=UTC:20230307T130500
DTSTAMP:20260424T085015
CREATED:20220830T153407Z
LAST-MODIFIED:20221212T171831Z
UID:2568-1678194300-1678194300@goodyearbp.com
SUMMARY:Giants @ Reds
DESCRIPTION:
URL:https://goodyearbp.com/event/giants-reds/
LOCATION:Goodyear Ballpark\, 1933 S Ballpark Way\, Goodyear\, AZ\, 85338\, United States
CATEGORIES:spring training
END:VEVENT
BEGIN:VEVENT
DTSTART;TZID=UTC:20230308T130500
DTEND;TZID=UTC:20230308T130500
DTSTAMP:20260424T085015
CREATED:20220830T153948Z
LAST-MODIFIED:20221212T171902Z
UID:2578-1678280700-1678280700@goodyearbp.com
SUMMARY:Team Mexico @ Guardians
DESCRIPTION:
URL:https://goodyearbp.com/event/world-baseball-classic-guardians/
LOCATION:Goodyear Ballpark\, 1933 S Ballpark Way\, Goodyear\, AZ\, 85338\, United States
CATEGORIES:spring training
END:VEVENT
BEGIN:VEVENT
DTSTART;TZID=UTC:20230309T130500
DTEND;TZID=UTC:20230309T130500
DTSTAMP:20260424T085015
CREATED:20220830T154014Z
LAST-MODIFIED:20221212T171920Z
UID:2579-1678367100-1678367100@goodyearbp.com
SUMMARY:Padres @ Guardians
DESCRIPTION:
URL:https://goodyearbp.com/event/padres-guardians/
LOCATION:Goodyear Ballpark\, 1933 S Ballpark Way\, Goodyear\, AZ\, 85338\, United States
CATEGORIES:spring training
END:VEVENT
BEGIN:VEVENT
DTSTART;TZID=UTC:20230310T180500
DTEND;TZID=UTC:20230310T180500
DTSTAMP:20260424T085015
CREATED:20220830T153438Z
LAST-MODIFIED:20221212T171938Z
UID:2569-1678471500-1678471500@goodyearbp.com
SUMMARY:Dbacks @ Reds
DESCRIPTION:
URL:https://goodyearbp.com/event/dbacks-reds/
LOCATION:Goodyear Ballpark\, 1933 S Ballpark Way\, Goodyear\, AZ\, 85338\, United States
CATEGORIES:spring training
END:VEVENT
BEGIN:VEVENT
DTSTART;TZID=UTC:20230311T130500
DTEND;TZID=UTC:20230311T130500
DTSTAMP:20260424T085015
CREATED:20220830T154044Z
LAST-MODIFIED:20221212T171954Z
UID:2580-1678539900-1678539900@goodyearbp.com
SUMMARY:Athletics @ Guardians
DESCRIPTION:
URL:https://goodyearbp.com/event/athletics-guardians/
LOCATION:Goodyear Ballpark\, 1933 S Ballpark Way\, Goodyear\, AZ\, 85338\, United States
CATEGORIES:spring training
END:VEVENT
END:VCALENDAR