BEGIN:VCALENDAR
VERSION:2.0
PRODID:-//Goodyear Ballpark - ECPv6.15.20//NONSGML v1.0//EN
CALSCALE:GREGORIAN
METHOD:PUBLISH
X-WR-CALNAME:Goodyear Ballpark
X-ORIGINAL-URL:https://goodyearbp.com
X-WR-CALDESC:Events for Goodyear Ballpark
REFRESH-INTERVAL;VALUE=DURATION:PT1H
X-Robots-Tag:noindex
X-PUBLISHED-TTL:PT1H
BEGIN:VTIMEZONE
TZID:UTC
BEGIN:STANDARD
TZOFFSETFROM:+0000
TZOFFSETTO:+0000
TZNAME:UTC
DTSTART:20210101T000000
END:STANDARD
END:VTIMEZONE
BEGIN:VEVENT
DTSTART;TZID=UTC:20220910T080000
DTEND;TZID=UTC:20220910T080000
DTSTAMP:20260422T214914
CREATED:20220729T224433Z
LAST-MODIFIED:20220823T170147Z
UID:2401-1662796800-1662796800@goodyearbp.com
SUMMARY:Bubble Run
DESCRIPTION:Enjoy good\, clean\, fun at Bubble Run. You will be showered with colorful\, fluffy\, foam\, as you navigate through four colorful bubble cannon stations. Walk\, run\, and dance your way through this family-friendly 5k course. The Bubble Run is untimed and non-competitive\, bring the whole family and go at your own pace. Once you pass the finish line\, meet us at the after-party\, where the foam cannons will be turned on to full blast. \nFor more information and to register\, visit the Bubble Run online.
URL:https://goodyearbp.com/event/bubble-run-2/
LOCATION:Goodyear Ballpark\, 1933 S Ballpark Way\, Goodyear\, AZ\, 85338\, United States
CATEGORIES:events
ORGANIZER;CN="Cool Events":MAILTO:info@bubblerun.com
END:VEVENT
END:VCALENDAR