BEGIN:VCALENDAR
VERSION:2.0
PRODID:-//Goodyear Ballpark - ECPv6.15.20//NONSGML v1.0//EN
CALSCALE:GREGORIAN
METHOD:PUBLISH
X-WR-CALNAME:Goodyear Ballpark
X-ORIGINAL-URL:https://goodyearbp.com
X-WR-CALDESC:Events for Goodyear Ballpark
REFRESH-INTERVAL;VALUE=DURATION:PT1H
X-Robots-Tag:noindex
X-PUBLISHED-TTL:PT1H
BEGIN:VTIMEZONE
TZID:UTC
BEGIN:STANDARD
TZOFFSETFROM:+0000
TZOFFSETTO:+0000
TZNAME:UTC
DTSTART:20210101T000000
END:STANDARD
END:VTIMEZONE
BEGIN:VEVENT
DTSTART;TZID=UTC:20220725T180000
DTEND;TZID=UTC:20220725T180000
DTSTAMP:20260421T105219
CREATED:20220606T220003Z
LAST-MODIFIED:20220606T222627Z
UID:2339-1658772000-1658772000@goodyearbp.com
SUMMARY:ACL - Brewers Blue @ Reds
DESCRIPTION:Arizona Complex League (ACL) game – will be played on Reds field 1\, located at the Cincinnati Reds Development Complex.\n\nReds Development Complex\n3125 S. Wood Blvd.\, Goodyear\, AZ \nView a map of the complex.
URL:https://goodyearbp.com/event/acl-brewers-blue-reds-2/
LOCATION:Reds Development Complex\, 3125 S Wood Blvd\, Goodyear\, AZ\, 85338
END:VEVENT
BEGIN:VEVENT
DTSTART;TZID=UTC:20220726T180000
DTEND;TZID=UTC:20220726T180000
DTSTAMP:20260421T105219
CREATED:20220606T215905Z
LAST-MODIFIED:20220606T222618Z
UID:2340-1658858400-1658858400@goodyearbp.com
SUMMARY:ACL - Brewers Gold @ Reds
DESCRIPTION:Arizona Complex League (ACL) game – will be played on Reds field 1\, located at the Cincinnati Reds Development Complex.\n\nReds Development Complex\n3125 S. Wood Blvd.\, Goodyear\, AZ \nView a map of the complex.
URL:https://goodyearbp.com/event/acl-brewers-gold-reds-2/
LOCATION:Reds Development Complex\, 3125 S Wood Blvd\, Goodyear\, AZ\, 85338
END:VEVENT
BEGIN:VEVENT
DTSTART;TZID=UTC:20220728T180000
DTEND;TZID=UTC:20220728T180000
DTSTAMP:20260421T105219
CREATED:20220604T035602Z
LAST-MODIFIED:20220606T222531Z
UID:2371-1659031200-1659031200@goodyearbp.com
SUMMARY:ACL - Athletics @ Guardians
DESCRIPTION:Game will be played on Guardians Field 2\, located at the Cleveland Guardians Development Complex. \n\nGuardians Development Complex\n2601 S. Wood Blvd.\, Goodyear\, AZ \nView a map of the complexes.
URL:https://goodyearbp.com/event/acl-athletics-guardians-2/
LOCATION:Guardians Development Complex\, 2601 S. Wood Blvd.\, Goodyear\, AZ\, 85338
END:VEVENT
BEGIN:VEVENT
DTSTART;TZID=UTC:20220729T180000
DTEND;TZID=UTC:20220729T180000
DTSTAMP:20260421T105219
CREATED:20220604T035629Z
LAST-MODIFIED:20220606T222526Z
UID:2372-1659117600-1659117600@goodyearbp.com
SUMMARY:ACL - Brewers Blue @ Guardians
DESCRIPTION:Game will be played on Guardians Field 2\, located at the Cleveland Guardians Development Complex. \n\nGuardians Development Complex\n2601 S. Wood Blvd.\, Goodyear\, AZ \nView a map of the complexes.
URL:https://goodyearbp.com/event/acl-brewers-blue-guardians-2/
LOCATION:Guardians Development Complex\, 2601 S. Wood Blvd.\, Goodyear\, AZ\, 85338
END:VEVENT
BEGIN:VEVENT
DTSTART;TZID=UTC:20220730T180000
DTEND;TZID=UTC:20220730T180000
DTSTAMP:20260421T105219
CREATED:20220604T041229Z
LAST-MODIFIED:20220606T222517Z
UID:2341-1659204000-1659204000@goodyearbp.com
SUMMARY:ACL - Guardians @ Reds
DESCRIPTION:Arizona Complex League (ACL) game – will be played on Reds field 1\, located at the Cincinnati Reds Development Complex.\n\nReds Development Complex\n3125 S. Wood Blvd.\, Goodyear\, AZ \nView a map of the complex.
URL:https://goodyearbp.com/event/acl-guardians-reds-3/
LOCATION:Reds Development Complex\, 3125 S Wood Blvd\, Goodyear\, AZ\, 85338
END:VEVENT
END:VCALENDAR