BEGIN:VCALENDAR
VERSION:2.0
PRODID:-//Goodyear Ballpark - ECPv6.15.20//NONSGML v1.0//EN
CALSCALE:GREGORIAN
METHOD:PUBLISH
X-WR-CALNAME:Goodyear Ballpark
X-ORIGINAL-URL:https://goodyearbp.com
X-WR-CALDESC:Events for Goodyear Ballpark
REFRESH-INTERVAL;VALUE=DURATION:PT1H
X-Robots-Tag:noindex
X-PUBLISHED-TTL:PT1H
BEGIN:VTIMEZONE
TZID:UTC
BEGIN:STANDARD
TZOFFSETFROM:+0000
TZOFFSETTO:+0000
TZNAME:UTC
DTSTART:20210101T000000
END:STANDARD
END:VTIMEZONE
BEGIN:VEVENT
DTSTART;VALUE=DATE:20220708
DTEND;VALUE=DATE:20220711
DTSTAMP:20260420T071953
CREATED:20220625T015729Z
LAST-MODIFIED:20220625T015729Z
UID:2391-1657238400-1657497599@goodyearbp.com
SUMMARY:Baseball Showcase Oppo Taco Tournament
DESCRIPTION:Games will be played at both team complexes\, located on Wood Blvd\, south of Goodyear Ballpark. \n\nGuardians Development Complex\n2601 S. Wood Blvd.\, Goodyear\, AZ \n\nReds Development Complex\n3125 S. Wood Blvd.\, Goodyear\, AZ \nView a map of the complexes.
URL:https://goodyearbp.com/event/baseball-showcase-oppo-taco-tournament/
LOCATION:Guardians & Reds Development Complexes\, S. Wood Blvd\, Goodyear\, 85338`
CATEGORIES:tournaments
END:VEVENT
BEGIN:VEVENT
DTSTART;TZID=UTC:20220711T180000
DTEND;TZID=UTC:20220711T180000
DTSTAMP:20260420T071953
CREATED:20220606T220450Z
LAST-MODIFIED:20220606T222749Z
UID:2335-1657562400-1657562400@goodyearbp.com
SUMMARY:ACL - Brewers Gold @ Reds
DESCRIPTION:Arizona Complex League (ACL) game – will be played on Reds field 1\, located at the Cincinnati Reds Development Complex.\n\nReds Development Complex\n3125 S. Wood Blvd.\, Goodyear\, AZ \nView a map of the complex.
URL:https://goodyearbp.com/event/acl-brewers-gold-reds-3/
LOCATION:Reds Development Complex\, 3125 S Wood Blvd\, Goodyear\, AZ\, 85338
END:VEVENT
BEGIN:VEVENT
DTSTART;TZID=UTC:20220712T180000
DTEND;TZID=UTC:20220712T180000
DTSTAMP:20260420T071953
CREATED:20220606T220242Z
LAST-MODIFIED:20220606T222741Z
UID:2336-1657648800-1657648800@goodyearbp.com
SUMMARY:ACL - Athletics @ Reds
DESCRIPTION:Arizona Complex League (ACL) game – will be played on Reds field 1\, located at the Cincinnati Reds Development Complex.\n\nReds Development Complex\n3125 S. Wood Blvd.\, Goodyear\, AZ \nView a map of the complex.
URL:https://goodyearbp.com/event/acl-athletics-reds-3/
LOCATION:Reds Development Complex\, 3125 S Wood Blvd\, Goodyear\, AZ\, 85338
END:VEVENT
BEGIN:VEVENT
DTSTART;TZID=UTC:20220714T180000
DTEND;TZID=UTC:20220714T180000
DTSTAMP:20260420T071953
CREATED:20220604T035408Z
LAST-MODIFIED:20220606T222734Z
UID:2367-1657821600-1657821600@goodyearbp.com
SUMMARY:ACL - Brewers Blue @ Guardians
DESCRIPTION:Game will be played on Guardians Field 2\, located at the Cleveland Guardians Development Complex. \n\nGuardians Development Complex\n2601 S. Wood Blvd.\, Goodyear\, AZ \nView a map of the complexes.
URL:https://goodyearbp.com/event/acl-brewers-blue-guardians-3/
LOCATION:Guardians Development Complex\, 2601 S. Wood Blvd.\, Goodyear\, AZ\, 85338
END:VEVENT
BEGIN:VEVENT
DTSTART;VALUE=DATE:20220715
DTEND;VALUE=DATE:20220720
DTSTAMP:20260420T071953
CREATED:20220625T013432Z
LAST-MODIFIED:20220625T015813Z
UID:2390-1657843200-1658275199@goodyearbp.com
SUMMARY:ProspectWire World Series West
DESCRIPTION:Games will be played at both team complexes\, located on Wood Blvd\, south of Goodyear Ballpark. \n\nGuardians Development Complex\n2601 S. Wood Blvd.\, Goodyear\, AZ \n\nReds Development Complex\n3125 S. Wood Blvd.\, Goodyear\, AZ \nView a map of the complexes.
URL:https://goodyearbp.com/event/prospectwire-world-series-west/
LOCATION:Guardians & Reds Development Complexes\, S. Wood Blvd\, Goodyear\, 85338`
CATEGORIES:tournaments
END:VEVENT
BEGIN:VEVENT
DTSTART;TZID=UTC:20220715T180000
DTEND;TZID=UTC:20220715T180000
DTSTAMP:20260420T071953
CREATED:20220606T220159Z
LAST-MODIFIED:20220606T222727Z
UID:2337-1657908000-1657908000@goodyearbp.com
SUMMARY:ACL - Cubs @ Reds
DESCRIPTION:Arizona Complex League (ACL) game – will be played on Reds field 1\, located at the Cincinnati Reds Development Complex.\n\nReds Development Complex\n3125 S. Wood Blvd.\, Goodyear\, AZ \nView a map of the complex.
URL:https://goodyearbp.com/event/acl-cubs-reds-3/
LOCATION:Reds Development Complex\, 3125 S Wood Blvd\, Goodyear\, AZ\, 85338
END:VEVENT
BEGIN:VEVENT
DTSTART;TZID=UTC:20220716T180000
DTEND;TZID=UTC:20220716T180000
DTSTAMP:20260420T071953
CREATED:20220606T220057Z
LAST-MODIFIED:20220606T222719Z
UID:2338-1657994400-1657994400@goodyearbp.com
SUMMARY:ACL - Guardians @ Reds
DESCRIPTION:Arizona Complex League (ACL) game – will be played on Reds field 1\, located at the Cincinnati Reds Development Complex.\n\nReds Development Complex\n3125 S. Wood Blvd.\, Goodyear\, AZ \nView a map of the complex.
URL:https://goodyearbp.com/event/acl-guardians-reds-4/
LOCATION:Reds Development Complex\, 3125 S Wood Blvd\, Goodyear\, AZ\, 85338
END:VEVENT
END:VCALENDAR