BEGIN:VCALENDAR
VERSION:2.0
PRODID:-//Goodyear Ballpark - ECPv6.15.20//NONSGML v1.0//EN
CALSCALE:GREGORIAN
METHOD:PUBLISH
X-ORIGINAL-URL:https://goodyearbp.com
X-WR-CALDESC:Events for Goodyear Ballpark
REFRESH-INTERVAL;VALUE=DURATION:PT1H
X-Robots-Tag:noindex
X-PUBLISHED-TTL:PT1H
BEGIN:VTIMEZONE
TZID:UTC
BEGIN:STANDARD
TZOFFSETFROM:+0000
TZOFFSETTO:+0000
TZNAME:UTC
DTSTART:20210101T000000
END:STANDARD
END:VTIMEZONE
BEGIN:VEVENT
DTSTART;TZID=UTC:20220529T130000
DTEND;TZID=UTC:20220529T130000
DTSTAMP:20260420T222816
CREATED:20220513T050032Z
LAST-MODIFIED:20220513T050032Z
UID:2312-1653829200-1653829200@goodyearbp.com
SUMMARY:AZBCA 6A Game
DESCRIPTION:Arizona Baseball Coaches Association Senior All-Star Game. \nGates open at 11:45 a.m. \nAdmission: $5; children 5 and under are free. \nView what may/may not be brought into the ballpark. \n 
URL:https://goodyearbp.com/event/azbca-6a-game/
LOCATION:Goodyear Ballpark\, 1933 S Ballpark Way\, Goodyear\, AZ\, 85338\, United States
END:VEVENT
BEGIN:VEVENT
DTSTART;TZID=UTC:20220529T170000
DTEND;TZID=UTC:20220529T170000
DTSTAMP:20260420T222816
CREATED:20220513T050126Z
LAST-MODIFIED:20220513T050126Z
UID:2313-1653843600-1653843600@goodyearbp.com
SUMMARY:AZBCA 5A Game
DESCRIPTION:Arizona Baseball Coaches Association Senior All-Star Game. \nGates open at 3:45 p.m. \nAdmission: $5; children 5 and under are free. \nView what may/may not be brought into the ballpark. \n 
URL:https://goodyearbp.com/event/azbca-5a-game/
LOCATION:Goodyear Ballpark\, 1933 S Ballpark Way\, Goodyear\, AZ\, 85338\, United States
END:VEVENT
BEGIN:VEVENT
DTSTART;VALUE=DATE:20220602
DTEND;VALUE=DATE:20220606
DTSTAMP:20260420T222816
CREATED:20220603T013315Z
LAST-MODIFIED:20220603T022708Z
UID:2317-1654128000-1654473599@goodyearbp.com
SUMMARY:SWWBC 4 Corners Showcase
DESCRIPTION:$20 tournament pass or daily admission: $8 adults\, $3 students\, 12 & under free. Find game times and other information here. \nGames will be played at both team complexes\, located on Wood Blvd\, south of Goodyear Ballpark.\nGuardians Development Complex\n2601 S. Wood Blvd.\, Goodyear\, AZ \n\nReds Development Complex\n3125 S. Wood Blvd.\, Goodyear\, AZ \nView a map of the complexes.
URL:https://goodyearbp.com/event/swwbc-4-corners-showcase/
LOCATION:Guardians & Reds Development Complexes\, S. Wood Blvd\, Goodyear\, 85338`
CATEGORIES:tournaments
END:VEVENT
END:VCALENDAR