BEGIN:VCALENDAR
VERSION:2.0
PRODID:-//Goodyear Ballpark - ECPv6.15.20//NONSGML v1.0//EN
CALSCALE:GREGORIAN
METHOD:PUBLISH
X-ORIGINAL-URL:https://goodyearbp.com
X-WR-CALDESC:Events for Goodyear Ballpark
REFRESH-INTERVAL;VALUE=DURATION:PT1H
X-Robots-Tag:noindex
X-PUBLISHED-TTL:PT1H
BEGIN:VTIMEZONE
TZID:UTC
BEGIN:STANDARD
TZOFFSETFROM:+0000
TZOFFSETTO:+0000
TZNAME:UTC
DTSTART:20210101T000000
END:STANDARD
END:VTIMEZONE
BEGIN:VEVENT
DTSTART;TZID=UTC:20220523T130000
DTEND;TZID=UTC:20220523T130000
DTSTAMP:20260421T075059
CREATED:20220420T022017Z
LAST-MODIFIED:20220420T022017Z
UID:2299-1653310800-1653310800@goodyearbp.com
SUMMARY:Extended Spring - Padres @ Reds
DESCRIPTION:Directions and parking for the Reds Development Complex. \n 
URL:https://goodyearbp.com/event/extended-spring-padres-reds/
LOCATION:Guardians Development Complex\, 2601 S. Wood Blvd.\, Goodyear\, AZ\, 85338
END:VEVENT
BEGIN:VEVENT
DTSTART;TZID=UTC:20220524T130000
DTEND;TZID=UTC:20220524T130000
DTSTAMP:20260421T075059
CREATED:20220420T020057Z
LAST-MODIFIED:20220420T020057Z
UID:2282-1653397200-1653397200@goodyearbp.com
SUMMARY:Extended Spring - Brewers @ Guardians
DESCRIPTION:Directions and parking for the Guardians Development Complex. \n 
URL:https://goodyearbp.com/event/extended-spring-brewers-guardians-2/
LOCATION:Guardians Development Complex\, 2601 S. Wood Blvd.\, Goodyear\, AZ\, 85338
END:VEVENT
BEGIN:VEVENT
DTSTART;TZID=UTC:20220527T130000
DTEND;TZID=UTC:20220527T130000
DTSTAMP:20260421T075059
CREATED:20220420T021527Z
LAST-MODIFIED:20220420T021527Z
UID:2290-1653656400-1653656400@goodyearbp.com
SUMMARY:Extended Spring - Guardians @ Reds
DESCRIPTION:Directions and parking for the Reds Development Complex. \n 
URL:https://goodyearbp.com/event/extended-spring-guardians-reds-4/
LOCATION:Guardians Development Complex\, 2601 S. Wood Blvd.\, Goodyear\, AZ\, 85338
END:VEVENT
BEGIN:VEVENT
DTSTART;TZID=UTC:20220528T100000
DTEND;TZID=UTC:20220528T100000
DTSTAMP:20260421T075059
CREATED:20220420T020349Z
LAST-MODIFIED:20220420T020349Z
UID:2286-1653732000-1653732000@goodyearbp.com
SUMMARY:Extended Spring - Dodgers @ Guardians
DESCRIPTION:Directions and parking for the Guardians Development Complex. \n 
URL:https://goodyearbp.com/event/extended-spring-dodgers-guardians-2/
LOCATION:Guardians Development Complex\, 2601 S. Wood Blvd.\, Goodyear\, AZ\, 85338
END:VEVENT
BEGIN:VEVENT
DTSTART;TZID=UTC:20220528T100000
DTEND;TZID=UTC:20220528T100000
DTSTAMP:20260421T075059
CREATED:20220513T045619Z
LAST-MODIFIED:20220513T045619Z
UID:2309-1653732000-1653732000@goodyearbp.com
SUMMARY:AZBCA Academic Game
DESCRIPTION:Arizona Baseball Coaches Association Senior All-Star Game. \nGates open at 8:45 a.m. \nAdmission: $5; children 5 and under are free. \nView what may/may not be brought into the ballpark. \n 
URL:https://goodyearbp.com/event/azbca-academic-game/
LOCATION:Goodyear Ballpark\, 1933 S Ballpark Way\, Goodyear\, AZ\, 85338\, United States
END:VEVENT
BEGIN:VEVENT
DTSTART;TZID=UTC:20220528T140000
DTEND;TZID=UTC:20220528T140000
DTSTAMP:20260421T075059
CREATED:20220513T045740Z
LAST-MODIFIED:20220513T045740Z
UID:2310-1653746400-1653746400@goodyearbp.com
SUMMARY:AZBCA 4A Game
DESCRIPTION:Arizona Baseball Coaches Association Senior All-Star Game. \nGates open at 12:45 p.m. \nAdmission: $5; children 5 and under are free. \nView what may/may not be brought into the ballpark. \n 
URL:https://goodyearbp.com/event/azbca-4a-game/
LOCATION:Goodyear Ballpark\, 1933 S Ballpark Way\, Goodyear\, AZ\, 85338\, United States
END:VEVENT
BEGIN:VEVENT
DTSTART;TZID=UTC:20220528T180000
DTEND;TZID=UTC:20220528T180000
DTSTAMP:20260421T075059
CREATED:20220513T045840Z
LAST-MODIFIED:20220513T045840Z
UID:2311-1653760800-1653760800@goodyearbp.com
SUMMARY:AZBCA 1A-3A Game
DESCRIPTION:Arizona Baseball Coaches Association Senior All-Star Game. \nGates open at 4:45 p.m. \nAdmission: $5; children 5 and under are free. \nView what may/may not be brought into the ballpark. \n 
URL:https://goodyearbp.com/event/azbca-1a-3a-game/
LOCATION:Goodyear Ballpark\, 1933 S Ballpark Way\, Goodyear\, AZ\, 85338\, United States
END:VEVENT
END:VCALENDAR