BEGIN:VCALENDAR
VERSION:2.0
PRODID:-//Goodyear Ballpark - ECPv6.15.20//NONSGML v1.0//EN
CALSCALE:GREGORIAN
METHOD:PUBLISH
X-WR-CALNAME:Goodyear Ballpark
X-ORIGINAL-URL:https://goodyearbp.com
X-WR-CALDESC:Events for Goodyear Ballpark
REFRESH-INTERVAL;VALUE=DURATION:PT1H
X-Robots-Tag:noindex
X-PUBLISHED-TTL:PT1H
BEGIN:VTIMEZONE
TZID:UTC
BEGIN:STANDARD
TZOFFSETFROM:+0000
TZOFFSETTO:+0000
TZNAME:UTC
DTSTART:20210101T000000
END:STANDARD
END:VTIMEZONE
BEGIN:VEVENT
DTSTART;TZID=UTC:20220413T160000
DTEND;TZID=UTC:20220413T160000
DTSTAMP:20260421T000647
CREATED:20220408T015248Z
LAST-MODIFIED:20220408T015435Z
UID:2267-1649865600-1649865600@goodyearbp.com
SUMMARY:Lake Havasu HS @ Millennium HS
DESCRIPTION:Goodyear High School Baseball Night @ Goodyear Ballpark.
URL:https://goodyearbp.com/event/lake-havasu-hs-millennium-hs/
LOCATION:Goodyear Ballpark\, 1933 S Ballpark Way\, Goodyear\, AZ\, 85338\, United States
END:VEVENT
BEGIN:VEVENT
DTSTART;TZID=UTC:20220413T190000
DTEND;TZID=UTC:20220413T190000
DTSTAMP:20260421T000647
CREATED:20220408T015123Z
LAST-MODIFIED:20220408T015123Z
UID:2266-1649876400-1649876400@goodyearbp.com
SUMMARY:Desert Edge HS @ Estrella Foothills HS
DESCRIPTION:Goodyear High School Baseball Night @ Goodyear Ballpark.
URL:https://goodyearbp.com/event/desert-edge-hs-estrella-foothills-hs/
LOCATION:Goodyear Ballpark\, 1933 S Ballpark Way\, Goodyear\, AZ\, 85338\, United States
END:VEVENT
END:VCALENDAR