BEGIN:VCALENDAR
VERSION:2.0
PRODID:-//Goodyear Ballpark - ECPv6.15.20//NONSGML v1.0//EN
CALSCALE:GREGORIAN
METHOD:PUBLISH
X-ORIGINAL-URL:https://goodyearbp.com
X-WR-CALDESC:Events for Goodyear Ballpark
REFRESH-INTERVAL;VALUE=DURATION:PT1H
X-Robots-Tag:noindex
X-PUBLISHED-TTL:PT1H
BEGIN:VTIMEZONE
TZID:UTC
BEGIN:STANDARD
TZOFFSETFROM:+0000
TZOFFSETTO:+0000
TZNAME:UTC
DTSTART:20210101T000000
END:STANDARD
END:VTIMEZONE
BEGIN:VEVENT
DTSTART;TZID=UTC:20220403T180500
DTEND;TZID=UTC:20220403T180500
DTSTAMP:20260420T003549
CREATED:20220312T065205Z
LAST-MODIFIED:20220315T040138Z
UID:2255-1649009100-1649009100@goodyearbp.com
SUMMARY:Cubs @ Guardians
DESCRIPTION:
URL:https://goodyearbp.com/event/cubs-guardians/
LOCATION:Goodyear Ballpark\, 1933 S Ballpark Way\, Goodyear\, AZ\, 85338\, United States
CATEGORIES:spring training
END:VEVENT
BEGIN:VEVENT
DTSTART;TZID=UTC:20220404T130500
DTEND;TZID=UTC:20220404T130500
DTSTAMP:20260420T003549
CREATED:20220312T065704Z
LAST-MODIFIED:20220315T040853Z
UID:2254-1649077500-1649077500@goodyearbp.com
SUMMARY:Royals @ Reds
DESCRIPTION:
URL:https://goodyearbp.com/event/royals-reds/
LOCATION:Goodyear Ballpark\, 1933 S Ballpark Way\, Goodyear\, AZ\, 85338\, United States
CATEGORIES:spring training
END:VEVENT
BEGIN:VEVENT
DTSTART;TZID=UTC:20220405T120500
DTEND;TZID=UTC:20220405T120500
DTSTAMP:20260420T003549
CREATED:20220312T065845Z
LAST-MODIFIED:20220315T040902Z
UID:2256-1649160300-1649160300@goodyearbp.com
SUMMARY:Mariners @ Reds
DESCRIPTION:
URL:https://goodyearbp.com/event/mariners-reds/
LOCATION:Goodyear Ballpark\, 1933 S Ballpark Way\, Goodyear\, AZ\, 85338\, United States
CATEGORIES:spring training
END:VEVENT
END:VCALENDAR