BEGIN:VCALENDAR
VERSION:2.0
PRODID:-//Goodyear Ballpark - ECPv6.15.20//NONSGML v1.0//EN
CALSCALE:GREGORIAN
METHOD:PUBLISH
X-WR-CALNAME:Goodyear Ballpark
X-ORIGINAL-URL:https://goodyearbp.com
X-WR-CALDESC:Events for Goodyear Ballpark
REFRESH-INTERVAL;VALUE=DURATION:PT1H
X-Robots-Tag:noindex
X-PUBLISHED-TTL:PT1H
BEGIN:VTIMEZONE
TZID:UTC
BEGIN:STANDARD
TZOFFSETFROM:+0000
TZOFFSETTO:+0000
TZNAME:UTC
DTSTART:20210101T000000
END:STANDARD
END:VTIMEZONE
BEGIN:VEVENT
DTSTART;TZID=UTC:20220327T130500
DTEND;TZID=UTC:20220327T130500
DTSTAMP:20260419T183645
CREATED:20220105T224504Z
LAST-MODIFIED:20220315T040717Z
UID:2125-1648386300-1648386300@goodyearbp.com
SUMMARY:Rockies @ Reds
DESCRIPTION:
URL:https://goodyearbp.com/event/rockies_reds/
LOCATION:Goodyear Ballpark\, 1933 S Ballpark Way\, Goodyear\, AZ\, 85338\, United States
CATEGORIES:spring training
END:VEVENT
BEGIN:VEVENT
DTSTART;TZID=UTC:20220328T180500
DTEND;TZID=UTC:20220328T180500
DTSTAMP:20260419T183645
CREATED:20220105T222738Z
LAST-MODIFIED:20220315T040731Z
UID:2109-1648490700-1648490700@goodyearbp.com
SUMMARY:Cubs @ Reds
DESCRIPTION:
URL:https://goodyearbp.com/event/cubs_reds/
LOCATION:Goodyear Ballpark\, 1933 S Ballpark Way\, Goodyear\, AZ\, 85338\, United States
CATEGORIES:spring training
END:VEVENT
BEGIN:VEVENT
DTSTART;TZID=UTC:20220329T130500
DTEND;TZID=UTC:20220329T130500
DTSTAMP:20260419T183645
CREATED:20220312T064532Z
LAST-MODIFIED:20220315T040744Z
UID:2249-1648559100-1648559100@goodyearbp.com
SUMMARY:Brewers @ Guardians
DESCRIPTION:
URL:https://goodyearbp.com/event/brewers_guardians/
LOCATION:Goodyear Ballpark\, 1933 S Ballpark Way\, Goodyear\, AZ\, 85338\, United States
CATEGORIES:spring training
END:VEVENT
BEGIN:VEVENT
DTSTART;TZID=UTC:20220330T180500
DTEND;TZID=UTC:20220330T180500
DTSTAMP:20260419T183645
CREATED:20220312T064636Z
LAST-MODIFIED:20220315T040756Z
UID:2250-1648663500-1648663500@goodyearbp.com
SUMMARY:Dodgers @ Guardians
DESCRIPTION:
URL:https://goodyearbp.com/event/dodgers-guardians/
LOCATION:Goodyear Ballpark\, 1933 S Ballpark Way\, Goodyear\, AZ\, 85338\, United States
CATEGORIES:spring training
END:VEVENT
BEGIN:VEVENT
DTSTART;TZID=UTC:20220331T180500
DTEND;TZID=UTC:20220331T180500
DTSTAMP:20260419T183645
CREATED:20220312T064803Z
LAST-MODIFIED:20220315T040815Z
UID:2251-1648749900-1648749900@goodyearbp.com
SUMMARY:White Sox @ Reds
DESCRIPTION:
URL:https://goodyearbp.com/event/white-sox-reds/
LOCATION:Goodyear Ballpark\, 1933 S Ballpark Way\, Goodyear\, AZ\, 85338\, United States
CATEGORIES:spring training
END:VEVENT
BEGIN:VEVENT
DTSTART;TZID=UTC:20220401T180500
DTEND;TZID=UTC:20220401T180500
DTSTAMP:20260419T183645
CREATED:20220312T064915Z
LAST-MODIFIED:20220315T040829Z
UID:2252-1648836300-1648836300@goodyearbp.com
SUMMARY:Dbacks @ Guardians
DESCRIPTION:
URL:https://goodyearbp.com/event/dbacks_guardians/
LOCATION:Goodyear Ballpark\, 1933 S Ballpark Way\, Goodyear\, AZ\, 85338\, United States
CATEGORIES:spring training
END:VEVENT
BEGIN:VEVENT
DTSTART;TZID=UTC:20220402T180500
DTEND;TZID=UTC:20220402T180500
DTSTAMP:20260419T183645
CREATED:20220312T065033Z
LAST-MODIFIED:20220315T040108Z
UID:2253-1648922700-1648922700@goodyearbp.com
SUMMARY:Padres @ Reds
DESCRIPTION:
URL:https://goodyearbp.com/event/padres_reds/
LOCATION:Goodyear Ballpark\, 1933 S Ballpark Way\, Goodyear\, AZ\, 85338\, United States
CATEGORIES:spring training
END:VEVENT
END:VCALENDAR