BEGIN:VCALENDAR
VERSION:2.0
PRODID:-//Goodyear Ballpark - ECPv6.15.20//NONSGML v1.0//EN
CALSCALE:GREGORIAN
METHOD:PUBLISH
X-ORIGINAL-URL:https://goodyearbp.com
X-WR-CALDESC:Events for Goodyear Ballpark
REFRESH-INTERVAL;VALUE=DURATION:PT1H
X-Robots-Tag:noindex
X-PUBLISHED-TTL:PT1H
BEGIN:VTIMEZONE
TZID:UTC
BEGIN:STANDARD
TZOFFSETFROM:+0000
TZOFFSETTO:+0000
TZNAME:UTC
DTSTART:20200101T000000
END:STANDARD
END:VTIMEZONE
BEGIN:VEVENT
DTSTART;TZID=UTC:20211120T080000
DTEND;TZID=UTC:20211120T080000
DTSTAMP:20260422T042932
CREATED:20211119T233801Z
LAST-MODIFIED:20211119T233801Z
UID:2061-1637395200-1637395200@goodyearbp.com
SUMMARY:Bubble Run
DESCRIPTION:For more information and to register\, visit the Bubble Run online.
URL:https://goodyearbp.com/event/bubble-run/
LOCATION:Goodyear Ballpark\, 1933 S Ballpark Way\, Goodyear\, AZ\, 85338\, United States
END:VEVENT
BEGIN:VEVENT
DTSTART;TZID=UTC:20211120T190000
DTEND;TZID=UTC:20211120T190000
DTSTAMP:20260422T042932
CREATED:20211119T234105Z
LAST-MODIFIED:20211119T234105Z
UID:2062-1637434800-1637434800@goodyearbp.com
SUMMARY:Foam Glow
DESCRIPTION:For more information and to register\, visit Foam Glow online.
URL:https://goodyearbp.com/event/foam-glow/
LOCATION:Goodyear Ballpark\, 1933 S Ballpark Way\, Goodyear\, AZ\, 85338\, United States
END:VEVENT
END:VCALENDAR