BEGIN:VCALENDAR
VERSION:2.0
PRODID:-//Goodyear Ballpark - ECPv6.15.20//NONSGML v1.0//EN
CALSCALE:GREGORIAN
METHOD:PUBLISH
X-WR-CALNAME:Goodyear Ballpark
X-ORIGINAL-URL:https://goodyearbp.com
X-WR-CALDESC:Events for Goodyear Ballpark
REFRESH-INTERVAL;VALUE=DURATION:PT1H
X-Robots-Tag:noindex
X-PUBLISHED-TTL:PT1H
BEGIN:VTIMEZONE
TZID:UTC
BEGIN:STANDARD
TZOFFSETFROM:+0000
TZOFFSETTO:+0000
TZNAME:UTC
DTSTART:20240101T000000
END:STANDARD
END:VTIMEZONE
BEGIN:VEVENT
DTSTART;VALUE=DATE:20250530
DTEND;VALUE=DATE:20250602
DTSTAMP:20260420T133403
CREATED:20250521T204354Z
LAST-MODIFIED:20250521T204354Z
UID:3335-1748563200-1748822399@goodyearbp.com
SUMMARY:PG - Arizona Summer Kickoff
DESCRIPTION:Games will be played at both team complexes\, located on Wood Blvd\, south of Goodyear Ballpark. For tournament info\, visit Perfect Game. \n\nGuardians Development Complex\n2601 S. Wood Blvd.\, Goodyear\, AZ \n\nReds Development Complex\n3125 S. Wood Blvd.\, Goodyear\, AZ \nView a map of the complexes.
URL:https://goodyearbp.com/event/pg-arizonasummerkickoff/
LOCATION:Guardians & Reds Development Complexes\, S. Wood Blvd\, Goodyear\, 85338`
CATEGORIES:tournaments
END:VEVENT
BEGIN:VEVENT
DTSTART;VALUE=DATE:20250606
DTEND;VALUE=DATE:20250609
DTSTAMP:20260420T133403
CREATED:20250521T204741Z
LAST-MODIFIED:20250521T204741Z
UID:3336-1749168000-1749427199@goodyearbp.com
SUMMARY:PG - Arizona All State Games
DESCRIPTION:Games will be played at both team complexes\, located on Wood Blvd\, south of Goodyear Ballpark. For tournament info\, visit Perfect Game. \n\nGuardians Development Complex\n2601 S. Wood Blvd.\, Goodyear\, AZ \n\nReds Development Complex\n3125 S. Wood Blvd.\, Goodyear\, AZ \nView a map of the complexes.
URL:https://goodyearbp.com/event/pg-allstategames/
LOCATION:Guardians & Reds Development Complexes\, S. Wood Blvd\, Goodyear\, 85338`
CATEGORIES:tournaments
END:VEVENT
BEGIN:VEVENT
DTSTART;VALUE=DATE:20250613
DTEND;VALUE=DATE:20250617
DTSTAMP:20260420T133403
CREATED:20250521T205023Z
LAST-MODIFIED:20250521T205023Z
UID:3337-1749772800-1750118399@goodyearbp.com
SUMMARY:PG - Best of the West Slugfest
DESCRIPTION:Games will be played at both team complexes\, located on Wood Blvd\, south of Goodyear Ballpark. For tournament info\, visit Perfect Game. \n\nGuardians Development Complex\n2601 S. Wood Blvd.\, Goodyear\, AZ \n\nReds Development Complex\n3125 S. Wood Blvd.\, Goodyear\, AZ \nView a map of the complexes.
URL:https://goodyearbp.com/event/pg-bwslugfest/
LOCATION:Guardians & Reds Development Complexes\, S. Wood Blvd\, Goodyear\, 85338`
CATEGORIES:tournaments
END:VEVENT
BEGIN:VEVENT
DTSTART;VALUE=DATE:20250620
DTEND;VALUE=DATE:20250623
DTSTAMP:20260420T133403
CREATED:20250521T220145Z
LAST-MODIFIED:20250521T220145Z
UID:3338-1750377600-1750636799@goodyearbp.com
SUMMARY:PG - BCS Challenge
DESCRIPTION:Games will be played at both team complexes\, located on Wood Blvd\, south of Goodyear Ballpark. For tournament info\, visit Perfect Game. \n\nGuardians Development Complex\n2601 S. Wood Blvd.\, Goodyear\, AZ \n\nReds Development Complex\n3125 S. Wood Blvd.\, Goodyear\, AZ \nView a map of the complexes.
URL:https://goodyearbp.com/event/pg-bcschallenge25/
LOCATION:Guardians & Reds Development Complexes\, S. Wood Blvd\, Goodyear\, 85338`
CATEGORIES:tournaments
END:VEVENT
END:VCALENDAR