BEGIN:VCALENDAR
VERSION:2.0
PRODID:-//Goodyear Ballpark - ECPv6.15.20//NONSGML v1.0//EN
CALSCALE:GREGORIAN
METHOD:PUBLISH
X-ORIGINAL-URL:https://goodyearbp.com
X-WR-CALDESC:Events for Goodyear Ballpark
REFRESH-INTERVAL;VALUE=DURATION:PT1H
X-Robots-Tag:noindex
X-PUBLISHED-TTL:PT1H
BEGIN:VTIMEZONE
TZID:UTC
BEGIN:STANDARD
TZOFFSETFROM:+0000
TZOFFSETTO:+0000
TZNAME:UTC
DTSTART:20240101T000000
END:STANDARD
END:VTIMEZONE
BEGIN:VEVENT
DTSTART;TZID=UTC:20251025T170000
DTEND;TZID=UTC:20251025T210000
DTSTAMP:20260419T173446
CREATED:20250902T205804Z
LAST-MODIFIED:20250902T205804Z
UID:3410-1761411600-1761426000@goodyearbp.com
SUMMARY:Fall Festival
DESCRIPTION:Have a Haunting Good Time at Fall Festival. Celebrate with a family-friendly harvest or ghostly scares for those who dare and trick-or-treat on the field at Goodyear Ballpark! Don’t forget to come dressed to impress to take home the trophy for best overall costume\, best youth costume\, best adult costume\, best group or family costume\, and people’s choice. \n\n\n\nMore Information can be found at goodyearaz.gov/events \n 
URL:https://goodyearbp.com/event/fall-festival-5/
LOCATION:Goodyear Ballpark\, 1933 S Ballpark Way\, Goodyear\, AZ\, 85338\, United States
CATEGORIES:events
ORGANIZER;CN="City of Goodyear Special Events":MAILTO:events@goodyearaz.gov
END:VEVENT
END:VCALENDAR