BEGIN:VCALENDAR
VERSION:2.0
PRODID:-//Goodyear Ballpark - ECPv6.15.20//NONSGML v1.0//EN
CALSCALE:GREGORIAN
METHOD:PUBLISH
X-ORIGINAL-URL:https://goodyearbp.com
X-WR-CALDESC:Events for Goodyear Ballpark
REFRESH-INTERVAL;VALUE=DURATION:PT1H
X-Robots-Tag:noindex
X-PUBLISHED-TTL:PT1H
BEGIN:VTIMEZONE
TZID:UTC
BEGIN:STANDARD
TZOFFSETFROM:+0000
TZOFFSETTO:+0000
TZNAME:UTC
DTSTART:20240101T000000
END:STANDARD
END:VTIMEZONE
BEGIN:VEVENT
DTSTART;TZID=UTC:20250927T160000
DTEND;TZID=UTC:20250927T220000
DTSTAMP:20260421T081602
CREATED:20250611T175430Z
LAST-MODIFIED:20250611T175453Z
UID:3389-1758988800-1759010400@goodyearbp.com
SUMMARY:The Roundup Food Truck Festival
DESCRIPTION:Get ready for the ultimate food truck extravaganza\, The Round Up\, hosted by the West Valley Mavericks Foundation and presented by Pleasant Harbor! This event benefits local West Valley charities. Join us at the Goodyear Ballpark on Saturday\, September 27th\, 2025. With over 40 food trucks\, live local music\, a kids’ zone\, and Maverick Alley activities\, bring the whole family and all your friends! \nGeneral Admission is FREE! Gates open at 4:00 PM with an amazing Drone Show at 8:30 PM. \nAs a reminder\, this is a cashless event. \nFor more information\, visit the West Valley Mavericks Foundation website.
URL:https://goodyearbp.com/event/the-roundup-food-truck-festival/
LOCATION:Goodyear Ballpark\, 1933 S Ballpark Way\, Goodyear\, AZ\, 85338\, United States
CATEGORIES:events
ATTACH;FMTTYPE=image/png:https://goodyearbp.com/wp-content/uploads/2023/07/Screenshot-2023-07-19-at-11.57.58-AM.png
END:VEVENT
END:VCALENDAR