BEGIN:VCALENDAR
VERSION:2.0
PRODID:-//Goodyear Ballpark - ECPv6.15.20//NONSGML v1.0//EN
CALSCALE:GREGORIAN
METHOD:PUBLISH
X-ORIGINAL-URL:https://goodyearbp.com
X-WR-CALDESC:Events for Goodyear Ballpark
REFRESH-INTERVAL;VALUE=DURATION:PT1H
X-Robots-Tag:noindex
X-PUBLISHED-TTL:PT1H
BEGIN:VTIMEZONE
TZID:UTC
BEGIN:STANDARD
TZOFFSETFROM:+0000
TZOFFSETTO:+0000
TZNAME:UTC
DTSTART:20230101T000000
END:STANDARD
END:VTIMEZONE
BEGIN:VEVENT
DTSTART;VALUE=DATE:20240608
DTEND;VALUE=DATE:20240610
DTSTAMP:20260424T013515
CREATED:20240521T193134Z
LAST-MODIFIED:20240521T193810Z
UID:3107-1717804800-1717977599@goodyearbp.com
SUMMARY:PG - All AZ State Games
DESCRIPTION:Games will be played at both team complexes\, located on Wood Blvd\, south of Goodyear Ballpark. For tournament info\, visit Perfect Game. \n\nGuardians Development Complex\n2601 S. Wood Blvd.\, Goodyear\, AZ \n\nReds Development Complex\n3125 S. Wood Blvd.\, Goodyear\, AZ \nView a map of the complexes.
URL:https://goodyearbp.com/event/pg-all-az-state-games/
LOCATION:Guardians & Reds Development Complexes\, S. Wood Blvd\, Goodyear\, 85338`
CATEGORIES:tournaments
END:VEVENT
BEGIN:VEVENT
DTSTART;TZID=UTC:20240608T110000
DTEND;TZID=UTC:20240608T110000
DTSTAMP:20260424T013515
CREATED:20240417T145219Z
LAST-MODIFIED:20240417T145219Z
UID:3066-1717844400-1717844400@goodyearbp.com
SUMMARY:ACL - White Sox @ Reds
DESCRIPTION:Arizona Complex League (ACL) game – will be played on Reds field 1\, located at the Cincinnati Reds Development Complex.\n\nReds Development Complex\n3125 S. Wood Blvd.\, Goodyear\, AZ \nView a map of the complex.
URL:https://goodyearbp.com/event/acl-white-sox-reds-7/
LOCATION:Reds Development Complex\, 3125 S Wood Blvd\, Goodyear\, AZ\, 85338
END:VEVENT
END:VCALENDAR