BEGIN:VCALENDAR
VERSION:2.0
PRODID:-//Goodyear Ballpark - ECPv6.15.20//NONSGML v1.0//EN
CALSCALE:GREGORIAN
METHOD:PUBLISH
X-ORIGINAL-URL:https://goodyearbp.com
X-WR-CALDESC:Events for Goodyear Ballpark
REFRESH-INTERVAL;VALUE=DURATION:PT1H
X-Robots-Tag:noindex
X-PUBLISHED-TTL:PT1H
BEGIN:VTIMEZONE
TZID:America/Phoenix
BEGIN:STANDARD
TZOFFSETFROM:-0700
TZOFFSETTO:-0700
TZNAME:MST
DTSTART:20230101T000000
END:STANDARD
END:VTIMEZONE
BEGIN:VEVENT
DTSTART;VALUE=DATE:20240121
DTEND;VALUE=DATE:20240127
DTSTAMP:20260420T141053
CREATED:20231214T174417Z
LAST-MODIFIED:20231214T174417Z
UID:2895-1705795200-1706313599@goodyearbp.com
SUMMARY:Guardians Fantasy Camp
DESCRIPTION:For more information\, visit CLEGuardians.com.
URL:https://goodyearbp.com/event/guardians-fantasy-camp/
LOCATION:Guardians Development Complex\, 2601 S. Wood Blvd.\, Goodyear\, AZ\, 85338
END:VEVENT
END:VCALENDAR