BEGIN:VCALENDAR
VERSION:2.0
PRODID:-//Goodyear Ballpark - ECPv6.15.20//NONSGML v1.0//EN
CALSCALE:GREGORIAN
METHOD:PUBLISH
X-ORIGINAL-URL:https://goodyearbp.com
X-WR-CALDESC:Events for Goodyear Ballpark
REFRESH-INTERVAL;VALUE=DURATION:PT1H
X-Robots-Tag:noindex
X-PUBLISHED-TTL:PT1H
BEGIN:VTIMEZONE
TZID:UTC
BEGIN:STANDARD
TZOFFSETFROM:+0000
TZOFFSETTO:+0000
TZNAME:UTC
DTSTART:20200101T000000
END:STANDARD
END:VTIMEZONE
BEGIN:VEVENT
DTSTART;VALUE=DATE:20210709
DTEND;VALUE=DATE:20210712
DTSTAMP:20260425T193529
CREATED:20210701T040253Z
LAST-MODIFIED:20210701T040606Z
UID:1846-1625788800-1626047999@goodyearbp.com
SUMMARY:Oppo Taco Baseball Tournament
DESCRIPTION:18U-14U. Games will be played at both team complexes\, located on Wood Blvd\, south of Goodyear Ballpark. \n\nIndians Development Complex\n2601 S. Wood Blvd.\, Goodyear\, AZ \n\nReds Development Complex\n3125 S. Wood Blvd.\, Goodyear\, AZ \nView a map of the complexes. \nIndians and Reds Development Complexes Field Layout
URL:https://goodyearbp.com/event/oppo-taco-baseball-tournament/
LOCATION:Indians & Reds Development Complexes\, S. Wood Blvd\, Goodyear\, 85338`
CATEGORIES:tournaments
END:VEVENT
END:VCALENDAR